Workbook

Sheet Tracker
A1: Prime cost tracker
A2: Fill in the yellow cells (blue text) from each month's P&L; everything else calculates. Row 5 is an example to show the format: overwrite it or delete its numbers. Bands are set on the Settings sheet.
A4: Month | B4: Sales ($) | C4: Food & beverage cost ($) | D4: Labor cost ($) | E4: Other controllable costs ($) | F4: Food & bev % | G4: Labor % | H4: Prime cost ($) | I4: Prime cost % | J4: Band | K4: Left after these costs ($) | L4: Change vs previous month (points)
A5: Example | B5: 100000 | C5: 31000 | D5: 32000 | E5: 12000 | F5: =IF($B5>0,C5/B5,"") | G5: =IF($B5>0,D5/B5,"") | H5: =IF($B5>0,C5+D5,"") | I5: =IF($B5>0,H5/B5,"") | J5: =IF(I5="","",IF(I5<Settings!$B$3,"Strong",IF(I5<Settings!$B$4,"On target",IF(I5<Settings!$B$5,"Watch closely","Needs attention")))) | K5: =IF($B5>0,B5-C5-D5-E5,"")
F6: =IF($B6>0,C6/B6,"") | G6: =IF($B6>0,D6/B6,"") | H6: =IF($B6>0,C6+D6,"") | I6: =IF($B6>0,H6/B6,"") | J6: =IF(I6="","",IF(I6<Settings!$B$3,"Strong",IF(I6<Settings!$B$4,"On target",IF(I6<Settings!$B$5,"Watch closely","Needs attention")))) | K6: =IF($B6>0,B6-C6-D6-E6,"") | L6: =IF(OR(I6="",I5=""),"",(I6-I5)*100)
F7: =IF($B7>0,C7/B7,"") | G7: =IF($B7>0,D7/B7,"") | H7: =IF($B7>0,C7+D7,"") | I7: =IF($B7>0,H7/B7,"") | J7: =IF(I7="","",IF(I7<Settings!$B$3,"Strong",IF(I7<Settings!$B$4,"On target",IF(I7<Settings!$B$5,"Watch closely","Needs attention")))) | K7: =IF($B7>0,B7-C7-D7-E7,"") | L7: =IF(OR(I7="",I6=""),"",(I7-I6)*100)
F8: =IF($B8>0,C8/B8,"") | G8: =IF($B8>0,D8/B8,"") | H8: =IF($B8>0,C8+D8,"") | I8: =IF($B8>0,H8/B8,"") | J8: =IF(I8="","",IF(I8<Settings!$B$3,"Strong",IF(I8<Settings!$B$4,"On target",IF(I8<Settings!$B$5,"Watch closely","Needs attention")))) | K8: =IF($B8>0,B8-C8-D8-E8,"") | L8: =IF(OR(I8="",I7=""),"",(I8-I7)*100)
F9: =IF($B9>0,C9/B9,"") | G9: =IF($B9>0,D9/B9,"") | H9: =IF($B9>0,C9+D9,"") | I9: =IF($B9>0,H9/B9,"") | J9: =IF(I9="","",IF(I9<Settings!$B$3,"Strong",IF(I9<Settings!$B$4,"On target",IF(I9<Settings!$B$5,"Watch closely","Needs attention")))) | K9: =IF($B9>0,B9-C9-D9-E9,"") | L9: =IF(OR(I9="",I8=""),"",(I9-I8)*100)
F10: =IF($B10>0,C10/B10,"") | G10: =IF($B10>0,D10/B10,"") | H10: =IF($B10>0,C10+D10,"") | I10: =IF($B10>0,H10/B10,"") | J10: =IF(I10="","",IF(I10<Settings!$B$3,"Strong",IF(I10<Settings!$B$4,"On target",IF(I10<Settings!$B$5,"Watch closely","Needs attention")))) | K10: =IF($B10>0,B10-C10-D10-E10,"") | L10: =IF(OR(I10="",I9=""),"",(I10-I9)*100)
F11: =IF($B11>0,C11/B11,"") | G11: =IF($B11>0,D11/B11,"") | H11: =IF($B11>0,C11+D11,"") | I11: =IF($B11>0,H11/B11,"") | J11: =IF(I11="","",IF(I11<Settings!$B$3,"Strong",IF(I11<Settings!$B$4,"On target",IF(I11<Settings!$B$5,"Watch closely","Needs attention")))) | K11: =IF($B11>0,B11-C11-D11-E11,"") | L11: =IF(OR(I11="",I10=""),"",(I11-I10)*100)
F12: =IF($B12>0,C12/B12,"") | G12: =IF($B12>0,D12/B12,"") | H12: =IF($B12>0,C12+D12,"") | I12: =IF($B12>0,H12/B12,"") | J12: =IF(I12="","",IF(I12<Settings!$B$3,"Strong",IF(I12<Settings!$B$4,"On target",IF(I12<Settings!$B$5,"Watch closely","Needs attention")))) | K12: =IF($B12>0,B12-C12-D12-E12,"") | L12: =IF(OR(I12="",I11=""),"",(I12-I11)*100)
F13: =IF($B13>0,C13/B13,"") | G13: =IF($B13>0,D13/B13,"") | H13: =IF($B13>0,C13+D13,"") | I13: =IF($B13>0,H13/B13,"") | J13: =IF(I13="","",IF(I13<Settings!$B$3,"Strong",IF(I13<Settings!$B$4,"On target",IF(I13<Settings!$B$5,"Watch closely","Needs attention")))) | K13: =IF($B13>0,B13-C13-D13-E13,"") | L13: =IF(OR(I13="",I12=""),"",(I13-I12)*100)
F14: =IF($B14>0,C14/B14,"") | G14: =IF($B14>0,D14/B14,"") | H14: =IF($B14>0,C14+D14,"") | I14: =IF($B14>0,H14/B14,"") | J14: =IF(I14="","",IF(I14<Settings!$B$3,"Strong",IF(I14<Settings!$B$4,"On target",IF(I14<Settings!$B$5,"Watch closely","Needs attention")))) | K14: =IF($B14>0,B14-C14-D14-E14,"") | L14: =IF(OR(I14="",I13=""),"",(I14-I13)*100)
F15: =IF($B15>0,C15/B15,"") | G15: =IF($B15>0,D15/B15,"") | H15: =IF($B15>0,C15+D15,"") | I15: =IF($B15>0,H15/B15,"") | J15: =IF(I15="","",IF(I15<Settings!$B$3,"Strong",IF(I15<Settings!$B$4,"On target",IF(I15<Settings!$B$5,"Watch closely","Needs attention")))) | K15: =IF($B15>0,B15-C15-D15-E15,"") | L15: =IF(OR(I15="",I14=""),"",(I15-I14)*100)
F16: =IF($B16>0,C16/B16,"") | G16: =IF($B16>0,D16/B16,"") | H16: =IF($B16>0,C16+D16,"") | I16: =IF($B16>0,H16/B16,"") | J16: =IF(I16="","",IF(I16<Settings!$B$3,"Strong",IF(I16<Settings!$B$4,"On target",IF(I16<Settings!$B$5,"Watch closely","Needs attention")))) | K16: =IF($B16>0,B16-C16-D16-E16,"") | L16: =IF(OR(I16="",I15=""),"",(I16-I15)*100)
F17: =IF($B17>0,C17/B17,"") | G17: =IF($B17>0,D17/B17,"") | H17: =IF($B17>0,C17+D17,"") | I17: =IF($B17>0,H17/B17,"") | J17: =IF(I17="","",IF(I17<Settings!$B$3,"Strong",IF(I17<Settings!$B$4,"On target",IF(I17<Settings!$B$5,"Watch closely","Needs attention")))) | K17: =IF($B17>0,B17-C17-D17-E17,"") | L17: =IF(OR(I17="",I16=""),"",(I17-I16)*100)
... F29: =IF($B29>0,C29/B29,"") | G29: =IF($B29>0,D29/B29,"") | H29: =IF($B29>0,C29+D29,"") | I29: =IF($B29>0,H29/B29,"") | J29: =IF(I29="","",IF(I29<Settings!$B$3,"Strong",IF(I29<Settings!$B$4,"On target",IF(I29<Settings!$B$5,"Watch closely","Needs attention")))) | K29: =IF($B29>0,B29-C29-D29-E29,"") | L29: =IF(OR(I29="",I28=""),"",(I29-I28)*100)
A31: Prime cost % = (food and beverage cost + labor cost) / sales. Change is in percentage points against the row above.

Sheet Settings
A1: Bands for prime cost % (food and beverage + labor, as a share of sales)
A3: Strong: prime cost below | B3: 0.6
A4: On target: below | B4: 0.65
A5: Watch closely: below | B5: 0.7
A6: At or above the last band: Needs attention.
A8: Source: common rules of thumb, the same bands the calculators at https://tmhsdigital.github.io/Github-Pages-Demo-1/tools/prime-cost-calculator/ use. Healthy ranges differ by concept, so set your own; your own month-to-month trend says more than any benchmark.
